Package: CNViz Version: 1.17.0 Command: /home/biocbuild/R/R/bin/R CMD build --keep-empty-dirs --no-resave-data CNViz StartedAt: 2025-10-17 00:07:35 -0000 (Fri, 17 Oct 2025) EndedAt: 2025-10-17 00:08:54 -0000 (Fri, 17 Oct 2025) EllapsedTime: 79.0 seconds RetCode: 0 Status: OK PackageFile: CNViz_1.17.0.tar.gz PackageFileSize: 116.2 KiB