Package: CNViz Version: 1.17.0 Command: chmod a+r CNViz -R && F:\biocbuild\bbs-3.22-bioc\R\bin\R.exe CMD build --keep-empty-dirs --no-resave-data CNViz StartedAt: 2025-08-14 19:13:40 -0400 (Thu, 14 Aug 2025) EndedAt: 2025-08-14 19:14:59 -0400 (Thu, 14 Aug 2025) EllapsedTime: 79.7 seconds RetCode: 0 Status: OK PackageFile: CNViz_1.17.0.tar.gz PackageFileSize: 115.7 KiB