Package: CNViz Version: 1.17.0 Command: rm -rf CNViz.buildbin-libdir && mkdir CNViz.buildbin-libdir && F:\biocbuild\bbs-3.22-bioc\R\bin\R.exe CMD INSTALL --build --library=CNViz.buildbin-libdir CNViz_1.17.0.tar.gz StartedAt: 2025-08-15 09:59:44 -0400 (Fri, 15 Aug 2025) EndedAt: 2025-08-15 10:00:37 -0400 (Fri, 15 Aug 2025) EllapsedTime: 52.9 seconds RetCode: 0 Status: OK PackageFile: CNViz_1.17.0.zip PackageFileSize: 186 KiB