Package: CNViz Version: 1.17.0 Command: /home/biocbuild/bbs-3.22-bioc/R/bin/R CMD INSTALL CNViz StartedAt: 2025-10-19 15:47:58 -0400 (Sun, 19 Oct 2025) EndedAt: 2025-10-19 15:48:47 -0400 (Sun, 19 Oct 2025) EllapsedTime: 48.3 seconds RetCode: 0 Status: OK