Package: CNViz Version: 1.17.0 Command: rm -rf CNViz.buildbin-libdir && mkdir CNViz.buildbin-libdir && /Users/biocbuild/BBS/utils/build-universal.sh CNViz_1.17.0.tar.gz /Library/Frameworks/R.framework/Resources/bin/R CNViz.buildbin-libdir StartedAt: 2025-10-20 03:02:32 -0400 (Mon, 20 Oct 2025) EndedAt: 2025-10-20 03:03:39 -0400 (Mon, 20 Oct 2025) EllapsedTime: 66.9 seconds RetCode: 0 Status: OK PackageFile: CNViz_1.17.0.tgz PackageFileSize: 180.2 KiB