Package: CNVRanger Version: 1.25.4 Command: /home/biocbuild/bbs-3.22-bioc/R/bin/R CMD INSTALL CNVRanger StartedAt: 2025-09-30 15:24:53 -0400 (Tue, 30 Sep 2025) EndedAt: 2025-09-30 15:25:14 -0400 (Tue, 30 Sep 2025) EllapsedTime: 21.8 seconds RetCode: 0 Status: OK