Package: CNVRanger Version: 1.25.4 Command: /home/biocbuild/bbs-3.22-bioc/R/bin/R CMD check --install=check:CNVRanger.install-out.txt --library=/home/biocbuild/bbs-3.22-bioc/R/site-library --timings CNVRanger_1.25.4.tar.gz StartedAt: 2025-09-30 22:23:43 -0400 (Tue, 30 Sep 2025) EndedAt: 2025-09-30 22:30:37 -0400 (Tue, 30 Sep 2025) EllapsedTime: 413.4 seconds RetCode: 0 Status: OK CheckDir: CNVRanger.Rcheck Warnings: 0