Package: CNVRanger Version: 1.25.4 Command: /Library/Frameworks/R.framework/Resources/bin/R CMD INSTALL CNVRanger StartedAt: 2025-10-03 15:26:36 -0400 (Fri, 03 Oct 2025) EndedAt: 2025-10-03 15:27:07 -0400 (Fri, 03 Oct 2025) EllapsedTime: 30.8 seconds RetCode: 0 Status: OK