Package: CNVPanelizer Version: 1.41.0 Command: /home/biocbuild/R/R/bin/R CMD check --install=check:CNVPanelizer.install-out.txt --library=/home/biocbuild/R/R/site-library --no-vignettes --timings CNVPanelizer_1.41.0.tar.gz StartedAt: 2025-10-21 06:41:22 -0000 (Tue, 21 Oct 2025) EndedAt: 2025-10-21 06:45:27 -0000 (Tue, 21 Oct 2025) EllapsedTime: 244.2 seconds RetCode: 0 Status: OK CheckDir: CNVPanelizer.Rcheck Warnings: 0