Package: CNVPanelizer Version: 1.41.0 Command: /Library/Frameworks/R.framework/Resources/bin/R CMD check --install=check:CNVPanelizer.install-out.txt --library=/Library/Frameworks/R.framework/Resources/library --no-vignettes --timings CNVPanelizer_1.41.0.tar.gz StartedAt: 2025-10-20 21:13:32 -0400 (Mon, 20 Oct 2025) EndedAt: 2025-10-20 21:17:06 -0400 (Mon, 20 Oct 2025) EllapsedTime: 213.9 seconds RetCode: 0 Status: OK CheckDir: CNVPanelizer.Rcheck Warnings: 0