Package: CNVPanelizer Version: 1.41.0 Command: /Library/Frameworks/R.framework/Resources/bin/R CMD build --keep-empty-dirs --no-resave-data CNVPanelizer StartedAt: 2025-10-19 16:34:07 -0400 (Sun, 19 Oct 2025) EndedAt: 2025-10-19 16:35:57 -0400 (Sun, 19 Oct 2025) EllapsedTime: 110.3 seconds RetCode: 0 Status: OK PackageFile: CNVPanelizer_1.41.0.tar.gz PackageFileSize: 363 KiB