Package: CNVPanelizer Version: 1.41.0 Command: rm -rf CNVPanelizer.buildbin-libdir && mkdir CNVPanelizer.buildbin-libdir && /Users/biocbuild/BBS/utils/build-universal.sh CNVPanelizer_1.41.0.tar.gz /Library/Frameworks/R.framework/Resources/bin/R CNVPanelizer.buildbin-libdir StartedAt: 2025-10-20 03:02:36 -0400 (Mon, 20 Oct 2025) EndedAt: 2025-10-20 03:03:09 -0400 (Mon, 20 Oct 2025) EllapsedTime: 33.5 seconds RetCode: 0 Status: OK PackageFile: CNVPanelizer_1.41.0.tgz PackageFileSize: 470.3 KiB