Package: CNVPanelizer Version: 1.41.0 Command: /Library/Frameworks/R.framework/Resources/bin/R CMD INSTALL CNVPanelizer StartedAt: 2025-10-19 15:10:42 -0400 (Sun, 19 Oct 2025) EndedAt: 2025-10-19 15:10:51 -0400 (Sun, 19 Oct 2025) EllapsedTime: 8.9 seconds RetCode: 0 Status: OK