Package: CNVPanelizer Version: 1.41.0 Command: /Library/Frameworks/R.framework/Resources/bin/R CMD check --install=check:CNVPanelizer.install-out.txt --library=/Library/Frameworks/R.framework/Resources/library --no-vignettes --timings CNVPanelizer_1.41.0.tar.gz StartedAt: 2025-10-19 18:59:59 -0400 (Sun, 19 Oct 2025) EndedAt: 2025-10-19 19:01:08 -0400 (Sun, 19 Oct 2025) EllapsedTime: 68.8 seconds RetCode: 0 Status: OK CheckDir: CNVPanelizer.Rcheck Warnings: 0