Package: CNVPanelizer Version: 1.41.0 Command: /Library/Frameworks/R.framework/Resources/bin/R CMD build --keep-empty-dirs --no-resave-data CNVPanelizer StartedAt: 2025-10-20 15:58:39 -0400 (Mon, 20 Oct 2025) EndedAt: 2025-10-20 15:59:09 -0400 (Mon, 20 Oct 2025) EllapsedTime: 30.3 seconds RetCode: 0 Status: OK PackageFile: CNVPanelizer_1.41.0.tar.gz PackageFileSize: 363.5 KiB