Package: CNVPanelizer Version: 1.41.0 Command: rm -rf CNVPanelizer.buildbin-libdir && mkdir CNVPanelizer.buildbin-libdir && /Users/biocbuild/BBS/utils/build-universal.sh CNVPanelizer_1.41.0.tar.gz /Library/Frameworks/R.framework/Resources/bin/R CNVPanelizer.buildbin-libdir StartedAt: 2025-10-19 22:54:53 -0400 (Sun, 19 Oct 2025) EndedAt: 2025-10-19 22:55:03 -0400 (Sun, 19 Oct 2025) EllapsedTime: 10.2 seconds RetCode: 0 Status: OK PackageFile: CNVPanelizer_1.41.0.tgz PackageFileSize: 472.2 KiB