Package: CNTools Version: 1.65.0 Command: /home/biocbuild/R/R/bin/R CMD INSTALL CNTools StartedAt: 2025-10-06 20:41:18 -0000 (Mon, 06 Oct 2025) EndedAt: 2025-10-06 20:41:43 -0000 (Mon, 06 Oct 2025) EllapsedTime: 24.8 seconds RetCode: 0 Status: OK