Package: CNORode Version: 1.51.0 Command: /home/biocbuild/R/R/bin/R CMD INSTALL CNORode StartedAt: 2025-10-23 20:34:00 -0000 (Thu, 23 Oct 2025) EndedAt: 2025-10-23 20:34:29 -0000 (Thu, 23 Oct 2025) EllapsedTime: 28.7 seconds RetCode: 0 Status: OK