Package: CNORode Version: 1.52.0 Command: /home/biocbuild/bbs-3.22-bioc/R/bin/R CMD INSTALL CNORode StartedAt: 2025-10-31 15:48:33 -0400 (Fri, 31 Oct 2025) EndedAt: 2025-10-31 15:48:50 -0400 (Fri, 31 Oct 2025) EllapsedTime: 17.2 seconds RetCode: 0 Status: OK