Package: CNORode Version: 1.52.0 Command: /Library/Frameworks/R.framework/Resources/bin/R CMD INSTALL CNORode StartedAt: 2025-11-03 15:39:09 -0500 (Mon, 03 Nov 2025) EndedAt: 2025-11-03 15:39:35 -0500 (Mon, 03 Nov 2025) EllapsedTime: 26.0 seconds RetCode: 0 Status: OK