Package: CNORode Version: 1.52.0 Command: rm -rf CNORode.buildbin-libdir && mkdir CNORode.buildbin-libdir && /Users/biocbuild/BBS/utils/build-universal.sh CNORode_1.52.0.tar.gz /Library/Frameworks/R.framework/Resources/bin/R CNORode.buildbin-libdir StartedAt: 2025-11-04 01:33:33 -0500 (Tue, 04 Nov 2025) EndedAt: 2025-11-04 01:34:02 -0500 (Tue, 04 Nov 2025) EllapsedTime: 28.9 seconds RetCode: 0 Status: OK PackageFile: CNORode_1.52.0.tgz PackageFileSize: 458.6 KiB