Package: CNORode Version: 1.52.0 Maintainer: Attila Gabor MaintainerEmail: attila.gabor at uni-heidelberg.de git_url: https://git.bioconductor.org/packages/CNORode git_branch: RELEASE_3_22 git_last_commit: 0bfa1d4 git_last_commit_date: 2025-10-29 10:12:25 -0400 (Wed, 29 Oct 2025)