Package: CNORfuzzy Version: 1.51.0 Command: /Library/Frameworks/R.framework/Resources/bin/R CMD build --keep-empty-dirs --no-resave-data CNORfuzzy StartedAt: 2025-10-24 16:35:46 -0400 (Fri, 24 Oct 2025) EndedAt: 2025-10-24 16:36:18 -0400 (Fri, 24 Oct 2025) EllapsedTime: 32.0 seconds RetCode: 0 Status: OK PackageFile: CNORfuzzy_1.51.0.tar.gz PackageFileSize: 920.5 KiB