Package: CNORfuzzy Version: 1.51.0 Command: /Library/Frameworks/R.framework/Resources/bin/R CMD build --keep-empty-dirs --no-resave-data CNORfuzzy StartedAt: 2025-10-28 15:59:02 -0400 (Tue, 28 Oct 2025) EndedAt: 2025-10-28 15:59:13 -0400 (Tue, 28 Oct 2025) EllapsedTime: 11.1 seconds RetCode: 0 Status: OK PackageFile: CNORfuzzy_1.51.0.tar.gz PackageFileSize: 921.5 KiB