Package: CNORfeeder Version: 1.49.0 Command: /home/biocbuild/R/R/bin/R CMD INSTALL CNORfeeder StartedAt: 2025-10-20 20:27:14 -0000 (Mon, 20 Oct 2025) EndedAt: 2025-10-20 20:27:26 -0000 (Mon, 20 Oct 2025) EllapsedTime: 12.5 seconds RetCode: 0 Status: OK