Package: CNORfeeder Version: 1.49.0 Command: /home/biocbuild/R/R/bin/R CMD check --install=check:CNORfeeder.install-out.txt --library=/home/biocbuild/R/R/site-library --no-vignettes --timings CNORfeeder_1.49.0.tar.gz StartedAt: 2025-10-21 06:40:03 -0000 (Tue, 21 Oct 2025) EndedAt: 2025-10-21 06:41:22 -0000 (Tue, 21 Oct 2025) EllapsedTime: 79.1 seconds RetCode: 0 Status: WARNINGS CheckDir: CNORfeeder.Rcheck Warnings: 4