Package: CNORfeeder Version: 1.49.0 Command: F:\biocbuild\bbs-3.22-bioc\R\bin\R.exe CMD check --no-multiarch --install=check:CNORfeeder.install-out.txt --library=F:\biocbuild\bbs-3.22-bioc\R\library --no-vignettes --timings CNORfeeder_1.49.0.tar.gz StartedAt: 2025-08-15 01:47:38 -0400 (Fri, 15 Aug 2025) EndedAt: 2025-08-15 01:48:59 -0400 (Fri, 15 Aug 2025) EllapsedTime: 81.3 seconds RetCode: 0 Status: WARNINGS CheckDir: CNORfeeder.Rcheck Warnings: 4