Package: CNORfeeder Version: 1.49.0 Command: rm -rf CNORfeeder.buildbin-libdir && mkdir CNORfeeder.buildbin-libdir && F:\biocbuild\bbs-3.22-bioc\R\bin\R.exe CMD INSTALL --build --library=CNORfeeder.buildbin-libdir CNORfeeder_1.49.0.tar.gz StartedAt: 2025-08-15 09:59:31 -0400 (Fri, 15 Aug 2025) EndedAt: 2025-08-15 10:00:02 -0400 (Fri, 15 Aug 2025) EllapsedTime: 31.1 seconds RetCode: 0 Status: OK PackageFile: CNORfeeder_1.49.0.zip PackageFileSize: 2.06 MiB