Package: CNORfeeder Version: 1.49.0 Command: /home/biocbuild/bbs-3.22-bioc/R/bin/R CMD INSTALL CNORfeeder StartedAt: 2025-10-20 15:13:59 -0400 (Mon, 20 Oct 2025) EndedAt: 2025-10-20 15:14:07 -0400 (Mon, 20 Oct 2025) EllapsedTime: 8.4 seconds RetCode: 0 Status: OK