Package: CNORfeeder Version: 1.49.0 Command: /Library/Frameworks/R.framework/Resources/bin/R CMD INSTALL CNORfeeder StartedAt: 2025-10-19 15:21:00 -0400 (Sun, 19 Oct 2025) EndedAt: 2025-10-19 15:21:14 -0400 (Sun, 19 Oct 2025) EllapsedTime: 14.4 seconds RetCode: 0 Status: OK