Package: CNORfeeder Version: 1.49.0 Command: /Library/Frameworks/R.framework/Resources/bin/R CMD build --keep-empty-dirs --no-resave-data CNORfeeder StartedAt: 2025-10-19 16:33:28 -0400 (Sun, 19 Oct 2025) EndedAt: 2025-10-19 16:33:52 -0400 (Sun, 19 Oct 2025) EllapsedTime: 24.0 seconds RetCode: 0 Status: OK PackageFile: CNORfeeder_1.49.0.tar.gz PackageFileSize: 3.434 MiB