Package: CNORfeeder Version: 1.49.0 Command: /Library/Frameworks/R.framework/Resources/bin/R CMD INSTALL CNORfeeder StartedAt: 2025-10-21 15:09:07 -0400 (Tue, 21 Oct 2025) EndedAt: 2025-10-21 15:09:11 -0400 (Tue, 21 Oct 2025) EllapsedTime: 3.9 seconds RetCode: 0 Status: OK