Package: CNORdt Version: 1.51.0 Command: /Library/Frameworks/R.framework/Resources/bin/R CMD INSTALL CNORdt StartedAt: 2025-10-24 15:30:00 -0400 (Fri, 24 Oct 2025) EndedAt: 2025-10-24 15:30:13 -0400 (Fri, 24 Oct 2025) EllapsedTime: 12.7 seconds RetCode: 0 Status: OK