Package: CNORdt Version: 1.52.0 Command: /Library/Frameworks/R.framework/Resources/bin/R CMD check --install=check:CNORdt.install-out.txt --library=/Library/Frameworks/R.framework/Resources/library --no-vignettes --timings CNORdt_1.52.0.tar.gz StartedAt: 2025-11-10 19:19:56 -0500 (Mon, 10 Nov 2025) EndedAt: 2025-11-10 19:20:54 -0500 (Mon, 10 Nov 2025) EllapsedTime: 57.8 seconds RetCode: 0 Status: OK CheckDir: CNORdt.Rcheck Warnings: 0