Package: CNEr Version: 1.46.0 Command: /Library/Frameworks/R.framework/Resources/bin/R CMD INSTALL CNEr StartedAt: 2025-11-20 17:19:58 -0500 (Thu, 20 Nov 2025) EndedAt: 2025-11-20 17:21:51 -0500 (Thu, 20 Nov 2025) EllapsedTime: 112.1 seconds RetCode: 0 Status: OK