Package: CNEr Version: 1.46.0 Command: /Library/Frameworks/R.framework/Resources/bin/R CMD check --install=check:CNEr.install-out.txt --library=/Library/Frameworks/R.framework/Resources/library --no-vignettes --timings CNEr_1.46.0.tar.gz StartedAt: 2025-11-21 02:59:06 -0500 (Fri, 21 Nov 2025) EndedAt: 2025-11-21 03:19:50 -0500 (Fri, 21 Nov 2025) EllapsedTime: 1243.5 seconds RetCode: 0 Status: WARNINGS CheckDir: CNEr.Rcheck Warnings: 2