Package: CNEr Version: 1.46.0 Command: /Library/Frameworks/R.framework/Resources/bin/R CMD build --keep-empty-dirs --no-resave-data CNEr StartedAt: 2025-11-17 21:18:05 -0500 (Mon, 17 Nov 2025) EndedAt: 2025-11-17 21:22:19 -0500 (Mon, 17 Nov 2025) EllapsedTime: 254.1 seconds RetCode: 0 Status: OK PackageFile: CNEr_1.46.0.tar.gz PackageFileSize: 9.599 MiB