Package: CNEr Version: 1.45.2 Command: /Library/Frameworks/R.framework/Resources/bin/R CMD check --install=check:CNEr.install-out.txt --library=/Library/Frameworks/R.framework/Resources/library --no-vignettes --timings CNEr_1.45.2.tar.gz StartedAt: 2025-09-30 20:20:18 -0400 (Tue, 30 Sep 2025) EndedAt: 2025-09-30 20:31:07 -0400 (Tue, 30 Sep 2025) EllapsedTime: 649.3 seconds RetCode: 0 Status: WARNINGS CheckDir: CNEr.Rcheck Warnings: 2