Package: CNEr Version: 1.46.0 Command: /Library/Frameworks/R.framework/Resources/bin/R CMD check --install=check:CNEr.install-out.txt --library=/Library/Frameworks/R.framework/Resources/library --no-vignettes --timings CNEr_1.46.0.tar.gz StartedAt: 2025-11-21 20:17:21 -0500 (Fri, 21 Nov 2025) EndedAt: 2025-11-21 20:33:40 -0500 (Fri, 21 Nov 2025) EllapsedTime: 979.2 seconds RetCode: 1 Status: ERROR CheckDir: CNEr.Rcheck Warnings: NA