Package: CNEr Version: 1.46.0 Command: /Library/Frameworks/R.framework/Resources/bin/R CMD build --keep-empty-dirs --no-resave-data CNEr StartedAt: 2025-11-20 22:23:56 -0500 (Thu, 20 Nov 2025) EndedAt: 2025-11-20 22:26:10 -0500 (Thu, 20 Nov 2025) EllapsedTime: 134.5 seconds RetCode: 0 Status: OK PackageFile: CNEr_1.46.0.tar.gz PackageFileSize: 9.6 MiB