Package: CNEr Version: 1.46.0 Command: rm -rf CNEr.buildbin-libdir && mkdir CNEr.buildbin-libdir && /Users/biocbuild/BBS/utils/build-universal.sh CNEr_1.46.0.tar.gz /Library/Frameworks/R.framework/Resources/bin/R CNEr.buildbin-libdir StartedAt: 2025-11-18 15:18:56 -0500 (Tue, 18 Nov 2025) EndedAt: 2025-11-18 15:19:25 -0500 (Tue, 18 Nov 2025) EllapsedTime: 28.4 seconds RetCode: 0 Status: OK PackageFile: CNEr_1.46.0.tgz PackageFileSize: 10.49 MiB