Package: CNAnorm Version: 1.56.0 Command: /home/biocbuild/R/R/bin/R CMD check --install=check:CNAnorm.install-out.txt --library=/home/biocbuild/R/R/site-library --no-vignettes --timings CNAnorm_1.56.0.tar.gz StartedAt: 2025-11-14 08:03:48 -0000 (Fri, 14 Nov 2025) EndedAt: 2025-11-14 08:04:38 -0000 (Fri, 14 Nov 2025) EllapsedTime: 50.1 seconds RetCode: 0 Status: OK CheckDir: CNAnorm.Rcheck Warnings: 0