Package: CNAnorm Version: 1.56.0 Command: /home/biocbuild/R/R/bin/R CMD build --keep-empty-dirs --no-resave-data CNAnorm StartedAt: 2025-11-14 00:44:06 -0000 (Fri, 14 Nov 2025) EndedAt: 2025-11-14 00:44:27 -0000 (Fri, 14 Nov 2025) EllapsedTime: 21.0 seconds RetCode: 0 Status: OK PackageFile: CNAnorm_1.56.0.tar.gz PackageFileSize: 1.513 MiB