Package: CNAnorm Version: 1.55.0 Command: F:\biocbuild\bbs-3.22-bioc\R\bin\R.exe CMD check --no-multiarch --install=check:CNAnorm.install-out.txt --library=F:\biocbuild\bbs-3.22-bioc\R\library --no-vignettes --timings CNAnorm_1.55.0.tar.gz StartedAt: 2025-08-15 01:46:52 -0400 (Fri, 15 Aug 2025) EndedAt: 2025-08-15 01:47:58 -0400 (Fri, 15 Aug 2025) EllapsedTime: 66.1 seconds RetCode: 0 Status: OK CheckDir: CNAnorm.Rcheck Warnings: 0