Package: CNAnorm Version: 1.55.0 Command: rm -rf CNAnorm.buildbin-libdir && mkdir CNAnorm.buildbin-libdir && F:\biocbuild\bbs-3.22-bioc\R\bin\R.exe CMD INSTALL --build --library=CNAnorm.buildbin-libdir CNAnorm_1.55.0.tar.gz StartedAt: 2025-08-15 09:59:26 -0400 (Fri, 15 Aug 2025) EndedAt: 2025-08-15 10:00:06 -0400 (Fri, 15 Aug 2025) EllapsedTime: 40.4 seconds RetCode: 0 Status: OK PackageFile: CNAnorm_1.55.0.zip PackageFileSize: 1.744 MiB