Package: CNAnorm Version: 1.56.0 Command: /Library/Frameworks/R.framework/Resources/bin/R CMD check --install=check:CNAnorm.install-out.txt --library=/Library/Frameworks/R.framework/Resources/library --no-vignettes --timings CNAnorm_1.56.0.tar.gz StartedAt: 2025-11-10 19:19:45 -0500 (Mon, 10 Nov 2025) EndedAt: 2025-11-10 19:20:05 -0500 (Mon, 10 Nov 2025) EllapsedTime: 20.2 seconds RetCode: 0 Status: OK CheckDir: CNAnorm.Rcheck Warnings: 0