Package: CNAnorm Version: 1.56.0 Command: rm -rf CNAnorm.buildbin-libdir && mkdir CNAnorm.buildbin-libdir && /Users/biocbuild/BBS/utils/build-universal.sh CNAnorm_1.56.0.tar.gz /Library/Frameworks/R.framework/Resources/bin/R CNAnorm.buildbin-libdir StartedAt: 2025-11-10 23:15:20 -0500 (Mon, 10 Nov 2025) EndedAt: 2025-11-10 23:15:24 -0500 (Mon, 10 Nov 2025) EllapsedTime: 4.1 seconds RetCode: 0 Status: OK PackageFile: CNAnorm_1.56.0.tgz PackageFileSize: 1.849 MiB