Package: CMA Version: 1.67.0 Command: /home/biocbuild/R/R/bin/R CMD check --install=check:CMA.install-out.txt --library=/home/biocbuild/R/R/site-library --no-vignettes --timings CMA_1.67.0.tar.gz StartedAt: 2025-10-17 07:24:43 -0000 (Fri, 17 Oct 2025) EndedAt: 2025-10-17 07:25:46 -0000 (Fri, 17 Oct 2025) EllapsedTime: 63.0 seconds RetCode: 0 Status: OK CheckDir: CMA.Rcheck Warnings: 0