Package: CMA Version: 1.67.0 Command: /home/biocbuild/R/R/bin/R CMD build --keep-empty-dirs --no-resave-data CMA StartedAt: 2025-10-17 00:05:55 -0000 (Fri, 17 Oct 2025) EndedAt: 2025-10-17 00:06:39 -0000 (Fri, 17 Oct 2025) EllapsedTime: 44.0 seconds RetCode: 0 Status: OK PackageFile: CMA_1.67.0.tar.gz PackageFileSize: 1.197 MiB