Package: CMA Version: 1.67.0 Command: /Library/Frameworks/R.framework/Resources/bin/R CMD INSTALL CMA StartedAt: 2025-10-19 15:15:47 -0400 (Sun, 19 Oct 2025) EndedAt: 2025-10-19 15:16:07 -0400 (Sun, 19 Oct 2025) EllapsedTime: 19.5 seconds RetCode: 0 Status: OK